BEGIN:VCALENDAR
VERSION:2.0
PRODID:-//sebbo.net//ical-generator//EN
BEGIN:VEVENT
UID:f605d9bd-8d63-4f62-a3d1-4fc94314b48d
SEQUENCE:0
DTSTAMP:20260422T102925Z
DTSTART:20261008T170000Z
DTEND:20261008T200000Z
SUMMARY:BLUTHUND - MODUS MOSHPIT TOUR 2026 - München - Backstage Halle
LOCATION:Backstage Halle\, Reitknechtstr. 6\, 80639 München\, Germany
DESCRIPTION:Doors: 19:00 Uhr\, Start: 20:00
END:VEVENT
END:VCALENDAR