BEGIN:VCALENDAR
VERSION:2.0
PRODID:-//sebbo.net//ical-generator//EN
BEGIN:VEVENT
UID:542b093f-d3ff-47b5-814f-b65e65271d3a
SEQUENCE:0
DTSTAMP:20260420T185551Z
DTSTART:20261009T170000Z
DTEND:20261009T200000Z
SUMMARY:BLUTHUND - MODUS MOSHPIT TOUR 2026 - Stuttgart - Im Wizemann (Club
 )
LOCATION:Im Wizemann (Club)\, Quellenstraße 7\, 70376 Stuttgart\, Deutsch
 land
DESCRIPTION:Einlass: 19:00 Uhr\, Beginn: 20:00
END:VEVENT
END:VCALENDAR