BEGIN:VCALENDAR
VERSION:2.0
PRODID:-//sebbo.net//ical-generator//EN
BEGIN:VEVENT
UID:3bc4fba6-b3a2-489a-bd47-651c47d5ad63
SEQUENCE:0
DTSTAMP:20260420T184944Z
DTSTART:20261015T180000Z
DTEND:20261015T210000Z
SUMMARY:BLUTHUND - MODUS MOSHPIT TOUR 2026 - Hamburg - Knust
LOCATION:Knust\, Neuer Kamp 30\, 20357 Hamburg\, Deutschland
DESCRIPTION:Einlass: 20:00 Uhr\, Beginn: 21:00
END:VEVENT
END:VCALENDAR