BEGIN:VCALENDAR
VERSION:2.0
PRODID:-//sebbo.net//ical-generator//EN
BEGIN:VEVENT
UID:18d5dd5e-3eb9-47e9-abde-96f7af8117f5
SEQUENCE:0
DTSTAMP:20260420T184653Z
DTSTART:20261023T170000Z
DTEND:20261023T200000Z
SUMMARY:BLUTHUND - MODUS MOSHPIT TOUR 2026 - Essen - Turock
LOCATION:Turock\, Viehofer Pl. 3\, 45127 Essen\, Deutschland
DESCRIPTION:Einlass: 19:00 Uhr\, Beginn: 20:00
END:VEVENT
END:VCALENDAR